BEGIN:VCALENDAR
VERSION:2.0
PRODID:-//Atascadero Community Band - ECPv6.15.20//NONSGML v1.0//EN
CALSCALE:GREGORIAN
METHOD:PUBLISH
X-WR-CALNAME:Atascadero Community Band
X-ORIGINAL-URL:https://atascaderoband.org
X-WR-CALDESC:Events for Atascadero Community Band
REFRESH-INTERVAL;VALUE=DURATION:PT1H
X-Robots-Tag:noindex
X-PUBLISHED-TTL:PT1H
BEGIN:VTIMEZONE
TZID:UTC
BEGIN:STANDARD
TZOFFSETFROM:+0000
TZOFFSETTO:+0000
TZNAME:UTC
DTSTART:20250101T000000
END:STANDARD
END:VTIMEZONE
BEGIN:VEVENT
DTSTART;TZID=UTC:20260301T150000
DTEND;TZID=UTC:20260301T170000
DTSTAMP:20260419T210303
CREATED:20260106T000653Z
LAST-MODIFIED:20260106T000655Z
UID:2282-1772377200-1772384400@atascaderoband.org
SUMMARY:The I’s Have It?
DESCRIPTION:The Atascadero Community Band is back at it with a lighthearted\, whimsically-themed concert titled “The I’s Have It?” This concert highlights the Letter I\, the word “neigh”…(think neighbor and the sounds horses make)\, and we hope it tickles your funny bone! This theme gives the band the opportunity to play several pieces we’ve yet to perform\, and we are excited to give them all a try!  \n\n\n\nOur very own beloved musicians and conductors\, Carol Kouklis and Joe Herzog\, will be sharing the podium for this very special concert\, and we hope. you can join us. Mark your calendars for March 1st\, and let’s begin 2026 with songs like “I Believe I Can Fly”\, Mister Rogers’ Neighborhood\, and I Heard it Through the Grapevine!
URL:https://atascaderoband.org/event/the-is-have-it/
LOCATION:Atascadero Bible Church\, 6225 Atascadero Ave\, Atascadero\, California\, United States
END:VEVENT
END:VCALENDAR