BEGIN:VCALENDAR
VERSION:2.0
PRODID:-//Atascadero Community Band - ECPv6.15.20//NONSGML v1.0//EN
CALSCALE:GREGORIAN
METHOD:PUBLISH
X-ORIGINAL-URL:https://atascaderoband.org
X-WR-CALDESC:Events for Atascadero Community Band
REFRESH-INTERVAL;VALUE=DURATION:PT1H
X-Robots-Tag:noindex
X-PUBLISHED-TTL:PT1H
BEGIN:VTIMEZONE
TZID:UTC
BEGIN:STANDARD
TZOFFSETFROM:+0000
TZOFFSETTO:+0000
TZNAME:UTC
DTSTART:20250101T000000
END:STANDARD
END:VTIMEZONE
BEGIN:VEVENT
DTSTART;TZID=UTC:20260503T150000
DTEND;TZID=UTC:20260503T170000
DTSTAMP:20260419T124644
CREATED:20260401T214338Z
LAST-MODIFIED:20260401T221213Z
UID:2286-1777820400-1777827600@atascaderoband.org
SUMMARY:Across America: Our country In Music
DESCRIPTION:Celebrate America in sound with the Atascadero Community Band’s next free concert\, “Across America: Our Country in Music.” This special performance continues the band’s 40th anniversary season while honoring the 250th anniversary of the United States. \n\n\n\nAudiences will journey coast to coast through a vibrant program featuring patriotic favorites like America the Beautiful and The Star-Spangled Banner\, lively marches\, and musical portraits of our nation’s history and landscapes—from Grand Canyon Suite to Kentucky 1800 and River Songs of the South. Along the way\, you’ll hear blues\, folk\, and classic American dance styles that capture the spirit and diversity of our country. \n\n\n\nA special highlight of the evening will be the premiere of Atascadero March\, a rediscovered treasure found in the archives of the Atascadero Historical Society. Originally written as a piano piece by Atascadero resident Arretta Urey and newly arranged for  concert band by one of our own members\, this piece honors the unique musical heritage of our hometown. \n\n\n\nJoin us for an uplifting evening of music celebrating the sounds\, stories\, and spirit of America!
URL:https://atascaderoband.org/event/across-america-our-country-in-music/
LOCATION:Atascadero Bible Church\, 6225 Atascadero Ave\, Atascadero\, California\, United States
ORGANIZER;CN="Atascadero Community Band":MAILTO:atascaderoband@gmail.com
END:VEVENT
END:VCALENDAR