BEGIN:VCALENDAR
VERSION:2.0
PRODID:-//Atascadero Community Band - ECPv6.15.20//NONSGML v1.0//EN
CALSCALE:GREGORIAN
METHOD:PUBLISH
X-ORIGINAL-URL:https://atascaderoband.org
X-WR-CALDESC:Events for Atascadero Community Band
REFRESH-INTERVAL;VALUE=DURATION:PT1H
X-Robots-Tag:noindex
X-PUBLISHED-TTL:PT1H
BEGIN:VTIMEZONE
TZID:UTC
BEGIN:STANDARD
TZOFFSETFROM:+0000
TZOFFSETTO:+0000
TZNAME:UTC
DTSTART:20240101T000000
END:STANDARD
END:VTIMEZONE
BEGIN:VEVENT
DTSTART;TZID=UTC:20251214T143000
DTEND;TZID=UTC:20251214T163000
DTSTAMP:20260420T025445
CREATED:20251009T180341Z
LAST-MODIFIED:20251009T180342Z
UID:2274-1765722600-1765729800@atascaderoband.org
SUMMARY:Holly Jolly Folly -  A Holiday Concert
DESCRIPTION:Happy Holidays! Join the Atascadero Community Band as they perform all of your favorite holiday standards in the Pavilion on the Lake\, conducted by the fabulous David Landers. As always\, refreshments and parking are free! We look forward to seeing you at one of our favorite performances of the year.
URL:https://atascaderoband.org/event/holly-jolly-folly-a-holiday-concert/
LOCATION:Pavilion on the Lake\, 9315 Pismo Ave\, Atascadero\, California\, 93422\, United States
END:VEVENT
END:VCALENDAR