BEGIN:VCALENDAR
VERSION:2.0
PRODID:-//Atascadero Community Band - ECPv6.15.20//NONSGML v1.0//EN
CALSCALE:GREGORIAN
METHOD:PUBLISH
X-ORIGINAL-URL:https://atascaderoband.org
X-WR-CALDESC:Events for Atascadero Community Band
REFRESH-INTERVAL;VALUE=DURATION:PT1H
X-Robots-Tag:noindex
X-PUBLISHED-TTL:PT1H
BEGIN:VTIMEZONE
TZID:UTC
BEGIN:STANDARD
TZOFFSETFROM:+0000
TZOFFSETTO:+0000
TZNAME:UTC
DTSTART:20240101T000000
END:STANDARD
END:VTIMEZONE
BEGIN:VEVENT
DTSTART;TZID=UTC:20251026T150000
DTEND;TZID=UTC:20251026T170000
DTSTAMP:20260420T055525
CREATED:20250821T181227Z
LAST-MODIFIED:20250821T181228Z
UID:2269-1761490800-1761498000@atascaderoband.org
SUMMARY:40th Anniversary Extravaganza
DESCRIPTION:Did someone say it was our 40th anniversary this year?!? That’s right! Our very own ACB began back in 1985\, and this year we celebrate our 40th indoor concert season! We have been incredibly fortunate to welcome many conductors to the podium\, and for this concert\, we agreed that there would be no better way to pay tribute to our own history than to invite many of those conductors back to direct a song or two.  \n\n\n\nIf you’ve been an audience member for any length of time\, you might recognize such tunes as Ashokan Farewell\, Great Locomotive Chase\, Irish Tune from County Derry\, Pirates of the Caribbean: Dead Man’s Chest\, or even Tank! These are only a few of the selections on tap for this upcoming concert\, and we truly hope you’ll be with us for an afternoon of celebration\, tribute\, memories\, and of course\, music! \n\n\n\nParking\, refreshments\, and admission are always free\, as we thank you for being a fantastic and loyal audience. Donations to the band are cheerfully accepted\, as proceeds from each and every indoor concert are paid forward to a band-designated\, nonprofit beneficiary.
URL:https://atascaderoband.org/event/40th-anniversary-extravaganza/
LOCATION:ABC Bible Church\, 6225 Atascadero Ave\, Atascadero\, California\, 93422\, United States
END:VEVENT
END:VCALENDAR